BEGIN:VCALENDAR
VERSION:2.0
PRODID:-//Sandton Shul - ECPv6.2.2//NONSGML v1.0//EN
CALSCALE:GREGORIAN
METHOD:PUBLISH
X-WR-CALNAME:Sandton Shul
X-ORIGINAL-URL:https://sandtonshul.co.za
X-WR-CALDESC:Events for Sandton Shul
REFRESH-INTERVAL;VALUE=DURATION:PT1H
X-Robots-Tag:noindex
X-PUBLISHED-TTL:PT1H
BEGIN:VTIMEZONE
TZID:UTC
BEGIN:STANDARD
TZOFFSETFROM:+0000
TZOFFSETTO:+0000
TZNAME:UTC
DTSTART:20240101T000000
END:STANDARD
END:VTIMEZONE
BEGIN:VEVENT
DTSTART;VALUE=DATE:20240611
DTEND;VALUE=DATE:20240612
DTSTAMP:20260421T192718
CREATED:20240312T133326Z
LAST-MODIFIED:20240527T185356Z
UID:757-1718064000-1718150399@sandtonshul.co.za
SUMMARY:Shavuot Dinner
DESCRIPTION:
URL:https://sandtonshul.co.za/event/shavuot-dinner-2024/
LOCATION:Longdon Ave\, Morningside\, Sandton\, 2199
ATTACH;FMTTYPE=image/jpeg:https://sandtonshul.co.za/wp-content/uploads/2024/03/Shavuot2024--scaled.jpg
END:VEVENT
END:VCALENDAR