BEGIN:VCALENDAR
VERSION:2.0
PRODID:-//Sandton Shul - ECPv6.2.2//NONSGML v1.0//EN
CALSCALE:GREGORIAN
METHOD:PUBLISH
X-WR-CALNAME:Sandton Shul
X-ORIGINAL-URL:https://sandtonshul.co.za
X-WR-CALDESC:Events for Sandton Shul
REFRESH-INTERVAL;VALUE=DURATION:PT1H
X-Robots-Tag:noindex
X-PUBLISHED-TTL:PT1H
BEGIN:VTIMEZONE
TZID:UTC
BEGIN:STANDARD
TZOFFSETFROM:+0000
TZOFFSETTO:+0000
TZNAME:UTC
DTSTART:20240101T000000
END:STANDARD
END:VTIMEZONE
BEGIN:VEVENT
DTSTART;TZID=UTC:20240419T193000
DTEND;TZID=UTC:20240419T220000
DTSTAMP:20260421T221411
CREATED:20240403T154615Z
LAST-MODIFIED:20240415T074659Z
UID:1304-1713555000-1713564000@sandtonshul.co.za
SUMMARY:Pre-Pesach Shabbat Dinner
DESCRIPTION:
URL:https://sandtonshul.co.za/event/pre-pesach-shabbat-dinner/
LOCATION:Longdon Ave\, Morningside\, Sandton\, 2199
ATTACH;FMTTYPE=image/jpeg:https://sandtonshul.co.za/wp-content/uploads/2024/04/WhatsApp-Image-2024-04-03-at-17.35.14.jpeg
END:VEVENT
END:VCALENDAR