BEGIN:VCALENDAR
VERSION:2.0
PRODID:-//Sandton Shul - ECPv6.2.2//NONSGML v1.0//EN
CALSCALE:GREGORIAN
METHOD:PUBLISH
X-ORIGINAL-URL:https://sandtonshul.co.za
X-WR-CALDESC:Events for Sandton Shul
REFRESH-INTERVAL;VALUE=DURATION:PT1H
X-Robots-Tag:noindex
X-PUBLISHED-TTL:PT1H
BEGIN:VTIMEZONE
TZID:UTC
BEGIN:STANDARD
TZOFFSETFROM:+0000
TZOFFSETTO:+0000
TZNAME:UTC
DTSTART:20250101T000000
END:STANDARD
END:VTIMEZONE
BEGIN:VEVENT
DTSTART;TZID=UTC:20250923T080000
DTEND;TZID=UTC:20250923T080000
DTSTAMP:20260421T153455
CREATED:20250831T165056Z
LAST-MODIFIED:20250915T093910Z
UID:2261-1758614400-1758614400@sandtonshul.co.za
SUMMARY:Mi Minyan Bookings 2025
DESCRIPTION:
URL:https://sandtonshul.co.za/event/mi-minyan-bookings-2025/
LOCATION:Garden Venue
ATTACH;FMTTYPE=image/jpeg:https://sandtonshul.co.za/wp-content/uploads/2024/03/upcomming-events-scaled.jpg
END:VEVENT
END:VCALENDAR