BEGIN:VCALENDAR
VERSION:2.0
PRODID:-//Sandton Shul - ECPv6.2.2//NONSGML v1.0//EN
CALSCALE:GREGORIAN
METHOD:PUBLISH
X-ORIGINAL-URL:https://sandtonshul.co.za
X-WR-CALDESC:Events for Sandton Shul
REFRESH-INTERVAL;VALUE=DURATION:PT1H
X-Robots-Tag:noindex
X-PUBLISHED-TTL:PT1H
BEGIN:VTIMEZONE
TZID:UTC
BEGIN:STANDARD
TZOFFSETFROM:+0000
TZOFFSETTO:+0000
TZNAME:UTC
DTSTART:20250101T000000
END:STANDARD
END:VTIMEZONE
BEGIN:VEVENT
DTSTART;VALUE=DATE:20250901
DTEND;VALUE=DATE:20250916
DTSTAMP:20260421T105633
CREATED:20250901T191651Z
LAST-MODIFIED:20250912T093308Z
UID:2278-1756684800-1757980799@sandtonshul.co.za
SUMMARY:Sukkot – lulav and etrog 2025 Orders
DESCRIPTION:Order your lulav and etrog set from Sandton Shul\, orders close on the 12th Sep 2025. \n 
URL:https://sandtonshul.co.za/event/sukkot-lulav-and-etrog-2025-orders/
LOCATION:Longdon Ave\, Morningside\, Sandton\, 2199
ATTACH;FMTTYPE=image/jpeg:https://sandtonshul.co.za/wp-content/uploads/2024/10/lulavetrog.jpg
END:VEVENT
END:VCALENDAR